Workbook
Name RefCodes: List!$B$6:$B$24

Sheet FORM
B3: PARISH (if not for whole benefice):
B4: BENEFICE/TEAM MINISTRY:
B5: INCUMBENT/PRIEST IN CHARGE/VACANCY:
B6: FEES CONTACT NAME:
B7: CONTACT DETAILS (Tel./email):
B8: MONTH / QUARTER:
B11: Date | C11: Fee Code | D11: Family Name(s) | E11: Name of Church (only required if form applies to multiple churches) | F11: Name of Officiant (Please indicate if "PTO") | G11: Retired Clergy? Y/N | H11: DBF Fee £ | I11: PCC Fee £ | J11: Retired Clergy Fee £
H12: =IFERROR(VLOOKUP($C12,List!$B$6:$D$45,2,FALSE)-J12,0) -> 0 | I12: =IFERROR(VLOOKUP($C12,List!$B$6:$D$45,3,FALSE),0) -> 0 | J12: =IF(G12="Y",VLOOKUP($C12,List!$B$6:$G$45,6,FALSE),0) -> 0
H13: =IFERROR(VLOOKUP($C13,List!$B$6:$D$25,2,FALSE)-J13,0) -> 0 | I13: =IFERROR(VLOOKUP($C13,List!$B$6:$D$25,3,FALSE),0) -> 0 | J13: =IF(G13="Y",VLOOKUP($C13,List!$B$6:$G$25,6,FALSE),0) -> 0
H14: =IFERROR(VLOOKUP($C14,List!$B$6:$D$25,2,FALSE)-J14,0) -> 0 | I14: =IFERROR(VLOOKUP($C14,List!$B$6:$D$25,3,FALSE),0) -> 0 | J14: =IF(G14="Y",VLOOKUP($C14,List!$B$6:$G$25,6,FALSE),0) -> 0
H15: =IFERROR(VLOOKUP($C15,List!$B$6:$D$25,2,FALSE)-J15,0) -> 0 | I15: =IFERROR(VLOOKUP($C15,List!$B$6:$D$25,3,FALSE),0) -> 0 | J15: =IF(G15="Y",VLOOKUP($C15,List!$B$6:$G$25,6,FALSE),0) -> 0
H16: =IFERROR(VLOOKUP($C16,List!$B$6:$D$25,2,FALSE)-J16,0) -> 0 | I16: =IFERROR(VLOOKUP($C16,List!$B$6:$D$25,3,FALSE),0) -> 0 | J16: =IF(G16="Y",VLOOKUP($C16,List!$B$6:$G$25,6,FALSE),0) -> 0
H17: =IFERROR(VLOOKUP($C17,List!$B$6:$D$25,2,FALSE)-J17,0) -> 0 | I17: =IFERROR(VLOOKUP($C17,List!$B$6:$D$25,3,FALSE),0) -> 0 | J17: =IF(G17="Y",VLOOKUP($C17,List!$B$6:$G$25,6,FALSE),0) -> 0
H18: =IFERROR(VLOOKUP($C18,List!$B$6:$D$25,2,FALSE)-J18,0) -> 0 | I18: =IFERROR(VLOOKUP($C18,List!$B$6:$D$25,3,FALSE),0) -> 0 | J18: =IF(G18="Y",VLOOKUP($C18,List!$B$6:$G$25,6,FALSE),0) -> 0
H19: =IFERROR(VLOOKUP($C19,List!$B$6:$D$25,2,FALSE)-J19,0) -> 0 | I19: =IFERROR(VLOOKUP($C19,List!$B$6:$D$25,3,FALSE),0) -> 0 | J19: =IF(G19="Y",VLOOKUP($C19,List!$B$6:$G$25,6,FALSE),0) -> 0
H20: =IFERROR(VLOOKUP($C20,List!$B$6:$D$25,2,FALSE)-J20,0) -> 0 | I20: =IFERROR(VLOOKUP($C20,List!$B$6:$D$25,3,FALSE),0) -> 0 | J20: =IF(G20="Y",VLOOKUP($C20,List!$B$6:$G$25,6,FALSE),0) -> 0
H21: =IFERROR(VLOOKUP($C21,List!$B$6:$D$25,2,FALSE)-J21,0) -> 0 | I21: =IFERROR(VLOOKUP($C21,List!$B$6:$D$25,3,FALSE),0) -> 0 | J21: =IF(G21="Y",VLOOKUP($C21,List!$B$6:$G$25,6,FALSE),0) -> 0
H22: =IFERROR(VLOOKUP($C22,List!$B$6:$D$25,2,FALSE)-J22,0) -> 0 | I22: =IFERROR(VLOOKUP($C22,List!$B$6:$D$25,3,FALSE),0) -> 0 | J22: =IF(G22="Y",VLOOKUP($C22,List!$B$6:$G$25,6,FALSE),0) -> 0
H23: =IFERROR(VLOOKUP($C23,List!$B$6:$D$25,2,FALSE)-J23,0) -> 0 | I23: =IFERROR(VLOOKUP($C23,List!$B$6:$D$25,3,FALSE),0) -> 0 | J23: =IF(G23="Y",VLOOKUP($C23,List!$B$6:$G$25,6,FALSE),0) -> 0
H24: =IFERROR(VLOOKUP($C24,List!$B$6:$D$25,2,FALSE)-J24,0) -> 0 | I24: =IFERROR(VLOOKUP($C24,List!$B$6:$D$25,3,FALSE),0) -> 0 | J24: =IF(G24="Y",VLOOKUP($C24,List!$B$6:$G$25,6,FALSE),0) -> 0
... H35: =IFERROR(VLOOKUP($C35,List!$B$6:$D$25,2,FALSE)-J35,0) -> 0 | I35: =IFERROR(VLOOKUP($C35,List!$B$6:$D$25,3,FALSE),0) -> 0 | J35: =IF(G35="Y",VLOOKUP($C35,List!$B$6:$G$25,6,FALSE),0) -> 0
B36: Declaration & Signatures | F36: Payment Method | H36: =SUM(H12:H35) -> 0 | I36: =SUM(I12:I35) -> 0 | J36: =SUM(J12:J35) -> 0
B37: I declare that all information provided on this form is true, correct and agreed to the parish records and registers. | F37: Cheque Enclosed
B39: PCC Signature
F40: Paid by BACS
B41: Incumbent Signature
B42: Date | F42: Please quote your parish name and "FEES" in the reference when making BACS payments

Sheet List
A1: List of Parochial Fees - 2023
F2: Retired Clergy?
F3: Y
F4: N
B5: Code | C5: DBF £ | D5: PCC £ | F5: DBF £ | G5: Retired Minister £
A6: Marriage Service in church. | B6: M | C6: 216 | D6: 288 | E6: =+C6+D6 -> 504 | F6: 64 | G6: 152
A7: Funeral service in church, whether taking place before or after burial or cremation. | B7: F | C7: 112 | D7: 104 | E7: =+C7+D7 -> 216 | F7: 33 | G7: 79
A8: Memorial Service | B8: MEM | C8: 112 | D8: 104 | E8: =+C8+D8 -> 216 | F8: 33 | G8: 79
A9: Funeral service including burial of body at graveside in churchyard | B9: FGV | C9: 101 | D9: 348 | E9: =+C9+D9 -> 449 | F9: 22 | G9: 79
A10: Funeral service including burial (or other lawful disposal) of cremated remains at graveside in churchyard. | B10: FGVA | C10: 111 | D10: 141 | E10: =+C10+D10 -> 252 | F10: 32 | G10: 79
A11: Burial of body in churchyard immediately preceding or following on from service in church | B11: BCH | C11: 11 | D11: 337 | E11: =+C11+D11 -> 348 | F11: 0 | G11: 11
A12: Burial or other lawful disposal of cremated remains in churchyard immediately preceding or following on from service in church | B12: ACH | C12: 11 | D12: 137 | E12: =+C12+D12 -> 148 | F12: 0 | G12: 11
A13: Burial of body, or buiral or other lawful disposal of cremated remains, in cemetery immediately preceding or following on from service in church. | B13: BCM | C13: 32 | D13: 0 | E13: =+C13+D13 -> 32 | F13: 11 | G13: 21
A14: Burial of body in churchyard on separate occasion. | B14: BCHS | C14: 30 | D14: 348 | E14: =+C14+D14 -> 378 | F14: 0 | G14: 30
A15: Burial of cremated remains in churchyard or other lawful disposal of cremated remains on separate occasion where original funeral service was in church. | B15: BACHS | C15: 40 | D15: 141 | E15: =+C15+D15 -> 181 | F15: 10 | G15: 30
A16: Burial of body, or burial or other lawful disposal of cremated remains, in cemetery on separate occasion where original funeral service was in church. | B16: BACMS | C16: 60 | D16: 18 | E16: =+C16+D16 -> 78 | F16: 19 | G16: 41
A17: Burial of body in churchyard (committal only). | B17: CMTL | C17: 30 | D17: 348 | E17: =+C17+D17 -> 378 | F17: 0 | G17: 30
... A45: Additional inscription on existing monument. | B45: I (1) | C45: 17 | D45: 18 | E45: =+C45+D45 -> 35 | F45: 17 | G45: 0
